BEGIN:VCALENDAR
VERSION:2.0
PRODID:-//AOCABFE | Association of Overseas Chinese Agricultural, Biological, and Food Engineers - 海外华人农业、生物与食品工程师协会 - ECPv6.13.2.1//NONSGML v1.0//EN
CALSCALE:GREGORIAN
METHOD:PUBLISH
X-WR-CALNAME:AOCABFE | Association of Overseas Chinese Agricultural, Biological, and Food Engineers - 海外华人农业、生物与食品工程师协会
X-ORIGINAL-URL:https://www.aocabfe.org
X-WR-CALDESC:Events for AOCABFE | Association of Overseas Chinese Agricultural, Biological, and Food Engineers - 海外华人农业、生物与食品工程师协会
REFRESH-INTERVAL;VALUE=DURATION:PT1H
X-Robots-Tag:noindex
X-PUBLISHED-TTL:PT1H
BEGIN:VTIMEZONE
TZID:America/Chicago
BEGIN:DAYLIGHT
TZOFFSETFROM:-0600
TZOFFSETTO:-0500
TZNAME:CDT
DTSTART:20210314T080000
END:DAYLIGHT
BEGIN:STANDARD
TZOFFSETFROM:-0500
TZOFFSETTO:-0600
TZNAME:CST
DTSTART:20211107T070000
END:STANDARD
END:VTIMEZONE
BEGIN:VTIMEZONE
TZID:America/New_York
BEGIN:DAYLIGHT
TZOFFSETFROM:-0500
TZOFFSETTO:-0400
TZNAME:EDT
DTSTART:20190310T070000
END:DAYLIGHT
BEGIN:STANDARD
TZOFFSETFROM:-0400
TZOFFSETTO:-0500
TZNAME:EST
DTSTART:20191103T060000
END:STANDARD
END:VTIMEZONE
BEGIN:VTIMEZONE
TZID:UTC
BEGIN:STANDARD
TZOFFSETFROM:+0000
TZOFFSETTO:+0000
TZNAME:UTC
DTSTART:20170101T000000
END:STANDARD
END:VTIMEZONE
BEGIN:VEVENT
DTSTART;TZID=America/Chicago:20210317T200000
DTEND;TZID=America/Chicago:20210317T213000
DTSTAMP:20260423T071530
CREATED:20210131T162016Z
LAST-MODIFIED:20210131T162152Z
UID:179246-1616011200-1616016600@www.aocabfe.org
SUMMARY:Event 2: Webinar - English writing skills for scientific publications
DESCRIPTION:More details in the Flyer \nPresenter: Jun Zhu\nProfessor at Department of Biological and Agricultural Engineering\, \nUA Division of Agriculture\, \nUniversity of Arkansas \n摘要：\n英语写作对非英语为母语的人来说一直都是比较棘手的事情。Dr. Jun Zhu多年来担任美国农业和生物工程师学会 (American Society of\nAgricultural and Biological Engineers\, ASABE) 的两份学术会刊的分刊主编 (Transactions of ASABE 和 Applied Engineering in Agriculture)，负责“农作物和畜禽养殖系统”分部所有文章的总审稿，还担任另外一个国际学术杂志主编 (Editor-in-Chief\, Journal of Water Technology and TreatmentMethods). 这个讲座的目的就根据他在美国三十年的教学和生活所积累的经验，以及在阅读和审阅了大量来自中国的投稿，总结了投稿人常犯的错误的基础上，希望给大家今后在英语写作科技文章时提供建议和帮助。
URL:https://www.aocabfe.org/event/webinar-english-writing-skills-for-scientific-publications/
ATTACH;FMTTYPE=image/jpeg:https://www.aocabfe.org/wp-content/uploads/2021/01/picture1-1.jpg
END:VEVENT
BEGIN:VEVENT
DTSTART;TZID=America/Chicago:20210310T200000
DTEND;TZID=America/Chicago:20210310T213000
DTSTAMP:20260423T071530
CREATED:20210131T155137Z
LAST-MODIFIED:20210131T162352Z
UID:179231-1615406400-1615411800@www.aocabfe.org
SUMMARY:Event 1: 生物工程大类留学北美申请简介及形势分析
DESCRIPTION:More details in the Flyer \nPresenter: Ce Yang\nAssistant Professor at Department of Bioproducts and Biosystems Engineering\,\nUniversity of Minnesota Twin Cities \n摘要：\n本次讲座涉及美国的生物工程大类专业导航，内容包括对学生的背景要求，托福和GRE考试，推荐人和推荐信，怎样寻找合适的课题组，硕士/博士program的利弊等。
URL:https://www.aocabfe.org/event/%e7%94%9f%e7%89%a9%e5%b7%a5%e7%a8%8b%e5%a4%a7%e7%b1%bb%e7%95%99%e5%ad%a6%e5%8c%97%e7%be%8e-%e7%94%b3%e8%af%b7%e7%ae%80%e4%bb%8b%e5%8f%8a%e5%bd%a2%e5%8a%bf%e5%88%86%e6%9e%90/
ATTACH;FMTTYPE=image/png:https://www.aocabfe.org/wp-content/uploads/2020/12/capture-2.png
END:VEVENT
BEGIN:VEVENT
DTSTART;TZID=America/New_York:20190708T170000
DTEND;TZID=America/New_York:20190708T190000
DTSTAMP:20260423T071530
CREATED:20190625T143236Z
LAST-MODIFIED:20190701T013811Z
UID:12499-1562605200-1562612400@www.aocabfe.org
SUMMARY:2019 AOC ANNUAL BUSINESS MEETING
DESCRIPTION:ASSOCIATION OF OVERSEAS CHINESE AGRICULTURAL\, BIOLOGICAL\, AND FOOD ENGINEERS (AOCABFE) ANNUAL BUSINESS MEETING \nDate and time: Monday\, July 8\, 5:00pm-7:00pm \nRoom: MIT @ Boston Marriott Copley Place \nThe AOCABFE annual meeting provides a platform for promoting and facilitating research and educational exchanges among researchers with Chinese origin or associations in the areas of agricultural\, biological and food engineering. The ASABE meeting attendees with international collaboration interests are invited to attend the meeting as well. The AOCABFE activities in 2018- 2019 will be reviewed and plans of action for 2019-2020 will be discussed. Following the business meeting the members of AOCABFE will be gathering at an off-site location for the awards dinner and an opportunity for socializing and networking.
URL:https://www.aocabfe.org/event/aoc-annual-business-meeting/
LOCATION:marriott boston copley\, 110 Huntington Ave\, Boston\, MA\, 02116\, United States
CATEGORIES:2019
ATTACH;FMTTYPE=image/jpeg:https://www.aocabfe.org/wp-content/uploads/2019/06/marriott-boston-e1561473286835.jpg
END:VEVENT
BEGIN:VEVENT
DTSTART;TZID=America/New_York:20190708T143000
DTEND;TZID=America/New_York:20190708T170000
DTSTAMP:20260423T071530
CREATED:20190701T013521Z
LAST-MODIFIED:20190704T180535Z
UID:12507-1562596200-1562605200@www.aocabfe.org
SUMMARY:AOCABFE & NERCITA China Exchange Forum
DESCRIPTION:Dear friends: \nYou are cordially invited to the 2019 AOCABFE & NERCITA China Exchange Forum during the 2019 ASABE Annual Meeting.  The forum will be held on Monday\, July 8th from 2:30 to 5:00 pm. \n\n\n\n \n \nModerator: Yufeng Ge\, University of Nebraska\, Lincoln\, NE\nSponsored by: E-2050; AOCABFE\n\n\n2:30pm\n2:55pm\nTBD\nProf. Yong He\, College of Biosystems Engineering & Foo Science\, Zhejiang University\, Hangzhou\, Zhejiang Province China\n\n\n2:55pm\n3:20pm\nFive years\, a little baijiu and lots of discussion to reach one data point: The development and progress to date for the UNL-NWAFU Food Science and Engineering 3+1 Program\nProf. Curt Weller\, Department of Food Science and Technology\, University of Nebraska-Lincoln\, Lincoln\, NE\n\n\n3:20pm\n3:45pm\nInternational Research Cooperation Between WSU and NWAFU\nProf. Shaojin Wang\, College of Mechanical & Electronic Engineering\, Northwest A&F University\, Yangling China\n\n\n3:45pm\n4:10pm\nDevelopment of smart agriculture in China: Policy and practice\nProf. Yingkuan Wang\, Chinese Academy of Agricultural Engineering\, Beijing China\n\n\n4:10pm\n4:35pm\nOverview of agricultural engineering program at Nanjing Agricultural University\nProf. Xiaochan Wang\, College of Engineering\, Nanjing Agricultural University\, Nanjing China\n\n\n4:35pm\n5:00pm\nTBD\nProf. Ning Wang\, Biosystems and Agricultural Engineering Department\, Oklahoma State University\, Stillwater\, OK.\n\n\n\n 
URL:https://www.aocabfe.org/event/aocabfe-nercita-china-exchange-forum/
LOCATION:marriott boston copley\, 110 Huntington Ave\, Boston\, MA\, 02116\, United States
CATEGORIES:2019
ATTACH;FMTTYPE=image/png:https://www.aocabfe.org/wp-content/uploads/2019/07/2019-banner.png
END:VEVENT
BEGIN:VEVENT
DTSTART;VALUE=DATE:20170806
DTEND;VALUE=DATE:20170811
DTSTAMP:20260423T071530
CREATED:20170407T210842Z
LAST-MODIFIED:20170407T210842Z
UID:281-1501977600-1502409599@www.aocabfe.org
SUMMARY:CSBE 2017 AGM & Techical Conference
DESCRIPTION:AGM & Technical Conference \n\n\n\n\n\n\n\n\n\n\n(Joint Meeting with CIGR Section VI Bioprocesses) \nWinnipeg\, MB\nCanad Inns Polo Park \nAugust 6-10\, 2017 \n\n\n\n\n\n\n\n\n\n\n\n\n\n“Food\, Fuel\, and Fibre\nfor a Sustainable Future”
URL:https://www.aocabfe.org/event/csbe-2017-agm-techical-conference/
LOCATION:Canad Inns Polo Park\, 1405 St Matthews Ave\, Winnipeg\, Canada
CATEGORIES:2017
ATTACH;FMTTYPE=image/jpeg:https://www.aocabfe.org/wp-content/uploads/2017/04/esplanade.riel_.original.25843-e1491591732968.jpg
ORGANIZER;CN="Canadian Soceity for Bioengineering (CSBE)":MAILTO:bioeng@csbe-scgab.ca
END:VEVENT
BEGIN:VEVENT
DTSTART;VALUE=DATE:20170630
DTEND;VALUE=DATE:20171125
DTSTAMP:20260423T071530
CREATED:20170630T211153Z
LAST-MODIFIED:20170630T213027Z
UID:941-1498780800-1511567999@www.aocabfe.org
SUMMARY:Call for Papers in Special Issue of "Advances in Meteorology"
DESCRIPTION:Special Issue in “Advances in Meteorology”\nMeteorological Data Acquisition\, Processing\, Analysis\, and Application in Crop Production Management \nThe application of meteorological data to crop production management is essential\, since crop production is largely dependent on weather and climate despite recent advances in agricultural technology. Interpretation of agrometeorological data is the key to reveal the effects of weather and climate on soils\, plants\, animals\, and related production in agricultural systems. Precision crop production management\nis enhanced by field inspection and optical sensors on space-borne\, airborne\, and ground on-the-go platforms with fusion of knowledge and understanding of meteorological changes. \nWe invite innovative contributions of original research and review articles that will stimulate the continuing efforts to enhance the role of meteorological data for effciency and sustainability of agricultural systems.We are particularly interested in articles describing the novel methods and schemes that incorporate meteorological data and information into the analysis of crop growth and production management\,\nin particular new technologies of weather data acquisition and advances in weather data processing analysis with soil\, plants\, and field data.\nPotential topics include but are not limited to the following: \n\nLatest technologies for agricultural meteorological data acquisition\, processing\, analysis\, and modeling\nFusion of meteorological data with remotely sensed data in crop growth monitoring\nMeteorological data in crop phenotyping\nMeteorological data for assessment of risks relating to pests\, diseases\, and extreme weather (drought\, hail\, wind\, freeze\, ood\, etc.) events\nTactical planning and decision-making of agricultural operations using meteorological data and information\n\nAuthors can submit their manuscripts through the Manuscript Tracking System at https://mts.hindawi.com/submit/journals/amete/mdap/. \nPapers are published upon acceptance\, regardless of the Special Issue publication date. For details click: PDF \nLead Guest Editor \nYanbo Huang\, United State Department of Agriculture\, Stoneville\, USA\nyanbo.huang@ars.usda.gov \nGuest Editors \nJingcheng Zhang\, Hangzhou Dianzi University\, Hangzhou\, China\nzhangjc_rs@163.com \nHaitao Xiang\, The Climate Corporation\,\nSt. Louis\, USA\nhaitao.xiang@monsanto.com \nSteven J. Thomson\, United States\nDepartment of Agriculture\,\nWashington\, USA\nsteven.j.thomson@nifa.usda.gov \nSubmission Deadline\nFriday\, 24 November 2017 \nPublication Date\nApril 2018
URL:https://www.aocabfe.org/event/call-for-papers-in-special-issue-of-advances-in-meteorology/
CATEGORIES:2017,2018
ATTACH;FMTTYPE=image/png:https://www.aocabfe.org/wp-content/uploads/2017/06/call-for-papers2.png
END:VEVENT
END:VCALENDAR